BEGIN:VCALENDAR
VERSION:2.0
PRODID:-//wp-events-plugin.com//7.2.3.1//EN
TZID:America/New_York
X-WR-TIMEZONE:America/New_York
BEGIN:VEVENT
UID:214@witherlelibrary.net
DTSTART:20200509T150000Z
DTEND:20200509T170000Z
DTSTAMP:20200506T174347Z
URL:https://witherlelibrary.net/events/tech-talk-with-tom-lamontanaro-4/
SUMMARY:Tech Talk with Tom Lamontanaro
DESCRIPTION:\n\nThe ZOOM Edition!\n\n\nThis session is full.  Another Tech
  Talk is coming soon!  If you're interested in a time slot please contact
  refdesk@witherle.lib.me.us.\n\nTech Talk is made possible thanks to the F
 riends of Witherle.
ATTACH;FMTTYPE=image/jpeg:https://witherlelibrary.net/wp-content/uploads/2
 019/04/ec8a52a4-e1e1-45de-8bc6-08b10e7da4d9.jpg
CATEGORIES:Adult Event
END:VEVENT
END:VCALENDAR