BEGIN:VCALENDAR
VERSION:2.0
PRODID:-//wp-events-plugin.com//7.2.3.1//EN
TZID:America/New_York
X-WR-TIMEZONE:America/New_York
BEGIN:VEVENT
UID:536@witherlelibrary.net
DTSTART;TZID=America/New_York:20210918T110000
DTEND;TZID=America/New_York:20210918T130000
DTSTAMP:20210915T202045Z
URL:https://witherlelibrary.net/events/tech-talk-17/
SUMMARY:Tech Talk
DESCRIPTION:With Tom Lamontanaro\n\nHalf-hour individual coaching sessions.
   No question too simple!  Tom is here to help.\n\nZOOM format.\n\nConta
 ct the library to register.\n\n&nbsp\;
ATTACH;FMTTYPE=image/jpeg:https://witherlelibrary.net/wp-content/uploads/2
 020/04/Tech-Talk-Image-Promo-1.jpg
CATEGORIES:Adult Event
END:VEVENT
BEGIN:VTIMEZONE
TZID:America/New_York
X-LIC-LOCATION:America/New_York
BEGIN:DAYLIGHT
DTSTART:20210314T030000
TZOFFSETFROM:-0500
TZOFFSETTO:-0400
TZNAME:EDT
END:DAYLIGHT
END:VTIMEZONE
END:VCALENDAR