BEGIN:VCALENDAR
VERSION:2.0
PRODID:-//wp-events-plugin.com//7.2.3.1//EN
TZID:America/New_York
X-WR-TIMEZONE:America/New_York
BEGIN:VEVENT
UID:1145@witherlelibrary.net
DTSTART;TZID=America/New_York:20230809T160000
DTEND;TZID=America/New_York:20230809T170000
DTSTAMP:20230809T151958Z
URL:https://witherlelibrary.net/events/meeting-of-the-friends-of-witherle-
 2/
SUMMARY:Meeting of the Friends of Witherle
DESCRIPTION:All are welcome. In person and Zoom.\n\nDownstairs Community Ro
 om\n\nAGENDA\n\n 	Approval of June minutes\n 	Reports:\nTreasurer\nBook sa
 les\nMembership\nDisplays\nLibrarians\n 	Old business:\nGenerator—propan
 e tanks?\n 	Book Sales\n 	Annual meeting\n 	New business:\nPropose slate o
 f officers\n
CATEGORIES:Adult Event
END:VEVENT
BEGIN:VTIMEZONE
TZID:America/New_York
X-LIC-LOCATION:America/New_York
BEGIN:DAYLIGHT
DTSTART:20230312T030000
TZOFFSETFROM:-0500
TZOFFSETTO:-0400
TZNAME:EDT
END:DAYLIGHT
END:VTIMEZONE
END:VCALENDAR