BEGIN:VCALENDAR
VERSION:2.0
PRODID:-//wp-events-plugin.com//7.2.3.1//EN
TZID:America/New_York
X-WR-TIMEZONE:America/New_York
BEGIN:VEVENT
UID:1672@witherlelibrary.net
DTSTART;TZID=America/New_York:20240913T100000
DTEND;TZID=America/New_York:20240913T110000
DTSTAMP:20240911T163427Z
URL:https://witherlelibrary.net/events/meeting-of-the-board-of-trustees-49
 /
SUMMARY:Meeting of the Board of Trustees
DESCRIPTION:All are welcome. In person and over Zoom.\nDownstairs Community
  Room\nAgenda\n\n\n 	Call to order\n 	Approval of minutes\n 	Treasurer’s
  Report\n 	Librarian’s Report\n 	Old Business\n\n 	Update on landscaping
  and planning board\n 	Dog policy\n 	Finance committee\n 	Mutual aid agree
 ment with CHS\, UU Church\, and the Wilson Museum\n\n\n 	New Business\n 	C
 ommunity Room Policy\n 	New Tent\n 	Adjourn\, walk around outside to asses
 s needs before winter to follow\n\nZoom Link\n\nJoin Zoom Meeting\n\nhttps
 ://us02web.zoom.us/j/84731282405\n\nMeeting ID: 847 3128 2405
CATEGORIES:Adult Event
END:VEVENT
BEGIN:VTIMEZONE
TZID:America/New_York
X-LIC-LOCATION:America/New_York
BEGIN:DAYLIGHT
DTSTART:20240310T030000
TZOFFSETFROM:-0500
TZOFFSETTO:-0400
TZNAME:EDT
END:DAYLIGHT
END:VTIMEZONE
END:VCALENDAR