BEGIN:VCALENDAR
VERSION:2.0
PRODID:-//wp-events-plugin.com//7.2.3.1//EN
TZID:America/New_York
X-WR-TIMEZONE:America/New_York
BEGIN:VEVENT
UID:162@witherlelibrary.net
DTSTART:20190819T230000Z
DTEND:20190820T000000Z
DTSTAMP:20190801T162715Z
URL:https://witherlelibrary.net/events/maine-writers-series-dan-and-leslie
 -landrigan/
SUMMARY:Maine Writers Series: Dan and Leslie Landrigan
DESCRIPTION:If the walls of Mount Desert Island’s mansions could talk\, t
 he stories they’d tell would fill a book. Most of the mansions are gone\
 , but the book Bar Harbor Babylon is here. Murderers\, thieves\, cheaters 
 and scammers have all made their mark on the tiny towns of Mount Desert. B
 ar Harbor Babylon takes readers on a tour of the misadventures and misfort
 unes that punctuate the island’s wealthy and privileged past.\n\nDan and
  Leslie Landrigan are the writers behind the New England Historical Societ
 y. Since its inception in 2014\, the blog--dedicated to the exploration an
 d promotion of New England history--has hosted more than three million vis
 itors. With backgrounds in journalism and publishing\, they now live on th
 e coast in Stonington\, Maine\, where they pursue their passionate interes
 t in history.\n\nThe Reading Room
ATTACH;FMTTYPE=image/jpeg:https://witherlelibrary.net/wp-content/uploads/2
 019/07/bar-harbor-babylon.jpg
CATEGORIES:Adult Event
END:VEVENT
END:VCALENDAR