BEGIN:VCALENDAR
VERSION:2.0
PRODID:-//wp-events-plugin.com//7.2.3.1//EN
TZID:America/New_York
X-WR-TIMEZONE:America/New_York
BEGIN:VEVENT
UID:2285@witherlelibrary.net
DTSTART;TZID=America/New_York:20260513T140000
DTEND;TZID=America/New_York:20260513T160000
DTSTAMP:20260423T143839Z
URL:https://witherlelibrary.net/events/mahjong-2-2026-05-06-2026-05-13/
SUMMARY:Mahjong
DESCRIPTION:The games are for all levels. Players from our recently complet
 ed beginning mahjong class are welcome to attend in order to continue buil
 ding their skills.\n\nPlease contact kathryn@witherlelibrary.net for more 
 information.\n\nLibrary Reading Room
ATTACH;FMTTYPE=image/jpeg:https://witherlelibrary.net/wp-content/uploads/2
 026/03/Majiang_at_UNG.jpg
CATEGORIES:Adult Event
END:VEVENT
BEGIN:VTIMEZONE
TZID:America/New_York
X-LIC-LOCATION:America/New_York
BEGIN:DAYLIGHT
DTSTART:20260308T030000
TZOFFSETFROM:-0500
TZOFFSETTO:-0400
TZNAME:EDT
END:DAYLIGHT
END:VTIMEZONE
END:VCALENDAR