BEGIN:VCALENDAR
VERSION:2.0
PRODID:-//wp-events-plugin.com//7.2.3.1//EN
TZID:America/New_York
X-WR-TIMEZONE:America/New_York
BEGIN:VEVENT
UID:500@witherlelibrary.net
DTSTART;TZID=America/New_York:20210805T140000
DTEND;TZID=America/New_York:20210805T160000
DTSTAMP:20210717T160606Z
URL:https://witherlelibrary.net/events/magic-the-gathering-club-2021-08-05
 /
SUMMARY:Magic the Gathering Club
DESCRIPTION:Come play Magic the Gathering at Witherle Memorial Library. The
 re will be plenty decks to use so all you have to do is show up. If have a
  deck\, bring it along because we'd love to see what you've built. Never p
 layed? Don't worry\, there will be experienced players there to teach you.
  The age level is 3rd grade through middle school but older players are we
 lcome.\n\nUnder the tent.
ATTACH;FMTTYPE=image/jpeg:https://witherlelibrary.net/wp-content/uploads/2
 021/07/Magic_the_gathering-card_back.jpg
CATEGORIES:Youth Event
END:VEVENT
BEGIN:VTIMEZONE
TZID:America/New_York
X-LIC-LOCATION:America/New_York
BEGIN:DAYLIGHT
DTSTART:20210314T030000
TZOFFSETFROM:-0500
TZOFFSETTO:-0400
TZNAME:EDT
END:DAYLIGHT
END:VTIMEZONE
END:VCALENDAR