BEGIN:VCALENDAR
VERSION:2.0
PRODID:-//wp-events-plugin.com//7.2.3.1//EN
TZID:America/New_York
X-WR-TIMEZONE:America/New_York
BEGIN:VEVENT
UID:908@witherlelibrary.net
DTSTART;TZID=America/New_York:20230322T190000
DTEND;TZID=America/New_York:20230322T203000
DTSTAMP:20221216T171402Z
URL:https://witherlelibrary.net/events/lets-talk-about-it-19/
SUMMARY:Let's Talk About It
DESCRIPTION:This year's theme is Banned Books. For an overview please go to
  Let's Talk About It.  Moderated by Annaliese Jakimides. To register plea
 se contact the library.\nThe DaVinci Code by Dan Brown\n\n\nWhile in Paris
 \, Harvard symbologist Robert Langdon is awakened by a phone call in the d
 ead of the night. The elderly curator of the Louvre has been murdered insi
 de the museum\, his body covered in baffling symbols. As Langdon and gifte
 d French cryptologist Sophie Neveu sort through the bizarre riddles\, they
  are stunned to discover a trail of clues hidden in the works of Leonardo 
 da Vinci—clues visible for all to see and yet ingeniously disguised by t
 he painter.\n\nEven more startling\, the late curator was involved in the 
 Priory of Sion—a secret society whose members included Sir Isaac Newton\
 , Victor Hugo\, and Da Vinci—and he guarded a breathtaking historical se
 cret. Unless Langdon and Neveu can decipher the labyrinthine puzzle—whil
 e avoiding the faceless adversary who shadows their every move—the explo
 sive\, ancient truth will be lost forever.  (Goodreads)\n\n
ATTACH;FMTTYPE=image/jpeg:https://witherlelibrary.net/wp-content/uploads/2
 022/12/968.jpg
CATEGORIES:Adult Event
END:VEVENT
BEGIN:VTIMEZONE
TZID:America/New_York
X-LIC-LOCATION:America/New_York
BEGIN:DAYLIGHT
DTSTART:20230312T030000
TZOFFSETFROM:-0500
TZOFFSETTO:-0400
TZNAME:EDT
END:DAYLIGHT
END:VTIMEZONE
END:VCALENDAR