BEGIN:VCALENDAR
VERSION:2.0
PRODID:-//wp-events-plugin.com//7.2.3.1//EN
TZID:America/New_York
X-WR-TIMEZONE:America/New_York
BEGIN:VEVENT
UID:854@witherlelibrary.net
DTSTART;TZID=America/New_York:20221012T170000
DTEND;TZID=America/New_York:20221012T180000
DTSTAMP:20220930T174031Z
URL:https://witherlelibrary.net/events/friends-of-witherle-library-annual-
 meeting-2/
SUMMARY:Friends of Witherle Library Annual Meeting
DESCRIPTION:The Friends of Witherle Memorial Library will host their annual
  meeting on Wednesday\, October 12 at 5:00 pm in the library. After a shor
 t business meeting\, Todd Nelson will speak on his new book\, Cold Spell: 
 A View from the End of the Peninsula\, coming out in October. All are wel
 come. Light refreshments will be available.\n\nAbout Todd Nelson and Cold
  Spell\nGiving up a life in Chicago\, Todd R. Nelson moved with his family
  to the stark contrasts of Castine\, Maine. What began as a leap of faith 
 turned into a family epoch of wonderful activity\, professional and person
 al development\, an unlimited inspiration\, hard work and struggle\, frien
 dship and enchantment. "What lucky fools\,"Nelson writes in his introducti
 on. Cold Spell is a collection of stories--warm\, humorous\, and at time
 s cautionary--about living in Maine. Here are stories about the seasons\, 
 the critters\, the neighbors\, the land itself\, and the community that Ne
 lson calls home. (Rowman and Littlefield)\n\nJoin Zoom Meeting\nhttps://ne
 tworkmaine.zoom.us/j/89853879442\n\nMeeting ID: 898 5387 9442\n\n&nbsp\;
ATTACH;FMTTYPE=image/jpeg:https://witherlelibrary.net/wp-content/uploads/2
 022/09/9781684750573.jpg
CATEGORIES:Adult Event
END:VEVENT
BEGIN:VTIMEZONE
TZID:America/New_York
X-LIC-LOCATION:America/New_York
BEGIN:DAYLIGHT
DTSTART:20220313T030000
TZOFFSETFROM:-0500
TZOFFSETTO:-0400
TZNAME:EDT
END:DAYLIGHT
END:VTIMEZONE
END:VCALENDAR