BEGIN:VCALENDAR
VERSION:2.0
PRODID:-//wp-events-plugin.com//7.2.3.1//EN
TZID:America/New_York
X-WR-TIMEZONE:America/New_York
BEGIN:VEVENT
UID:72@witherlelibrary.net
DTSTART:20190605T210000Z
DTEND:20190605T220000Z
DTSTAMP:20190524T193354Z
URL:https://witherlelibrary.net/events/foreign-affairs-discussion-group-4/
SUMMARY:Foreign Affairs Discussion Group
DESCRIPTION:Iran: Maximum Pressure?\n\nWe’ll explore the current policy a
 nd likely outcomes. A reading is available at the library front desk. Barb
 ara Griffiths leads the discussion.  All are welcome.\n\nReading Room\n\n
 Photo credit:  Tasnim News Agency via Wikimedia Commons
ATTACH;FMTTYPE=image/jpeg:https://witherlelibrary.net/wp-content/uploads/2
 019/05/Screen-Shot-2019-04-08-at-7.31.18-PM-1024x603.png
CATEGORIES:Adult Event
END:VEVENT
END:VCALENDAR