BEGIN:VCALENDAR
VERSION:2.0
PRODID:-//wp-events-plugin.com//7.2.3.1//EN
TZID:America/New_York
X-WR-TIMEZONE:America/New_York
BEGIN:VEVENT
UID:563@witherlelibrary.net
DTSTART;TZID=America/New_York:20211109T150000
DTEND;TZID=America/New_York:20211109T170000
DTSTAMP:20211106T182601Z
URL:https://witherlelibrary.net/events/dungeons-dragons-student-edition/
SUMMARY:Dungeons & Dragons STUDENT EDITION
DESCRIPTION:Join Director Nick Berry for an adventure! Witherle Memorial Li
 brary will be holding 5th Edition Dungeons and Dragons games every other T
 uesday at a time geared specifically for students.\n\nNick will throw play
 ers into his homebrew world full of daring and danger. This tabletop role-
 playing game combines group storytelling\, problem solving\, and dice roll
 ing in a high fantasy setting with swords and magic\, wizards and pirates.
 \n\nPlayers of all levels are welcome\, beginners are greatly encouraged t
 o join! Snacks will be provided.\n\n\nDownstairs Community Room
ATTACH;FMTTYPE=image/jpeg:https://witherlelibrary.net/wp-content/uploads/2
 021/08/Unknown-e1630168717502.png
CATEGORIES:Youth Event
END:VEVENT
BEGIN:VTIMEZONE
TZID:America/New_York
X-LIC-LOCATION:America/New_York
BEGIN:STANDARD
DTSTART:20211107T010000
TZOFFSETFROM:-0400
TZOFFSETTO:-0500
TZNAME:EST
END:STANDARD
END:VTIMEZONE
END:VCALENDAR