BEGIN:VCALENDAR
VERSION:2.0
PRODID:-//wp-events-plugin.com//7.2.3.1//EN
TZID:America/New_York
X-WR-TIMEZONE:America/New_York
BEGIN:VEVENT
UID:1056@witherlelibrary.net
DTSTART;TZID=America/New_York:20230615T151500
DTEND;TZID=America/New_York:20230615T180000
DTSTAMP:20230531T180726Z
URL:https://witherlelibrary.net/events/dungeons-dragons-student-edition-gr
 oup-2-23/
SUMMARY:Dungeons & Dragons Student Edition Group 2
DESCRIPTION:While one adventuring party sails the southern waves\, and anot
 her traverses the north\, a group of seemingly unconnected adventurers fin
 d themselves in a tavern high in The Spines\, the mountain range that divi
 des the east and west of Helzarka. Openly ruled by the Elnari Thieves’ G
 uild\, Helzarka is rife with danger but the spoils are rich for anyone who
  can survive. What lurks in the rocky crags for our adventurers to find?\n
 \nAges 10 to 15. Beginners welcome. Limited to 8 players. To register plea
 se contact Nick Berry.\n\nThis group is currently FULL.\n\n
ATTACH;FMTTYPE=image/jpeg:https://witherlelibrary.net/wp-content/uploads/2
 022/05/QUEST001-scaled.jpg
CATEGORIES:Youth Event
END:VEVENT
BEGIN:VTIMEZONE
TZID:America/New_York
X-LIC-LOCATION:America/New_York
BEGIN:DAYLIGHT
DTSTART:20230312T030000
TZOFFSETFROM:-0500
TZOFFSETTO:-0400
TZNAME:EDT
END:DAYLIGHT
END:VTIMEZONE
END:VCALENDAR