BEGIN:VCALENDAR
VERSION:2.0
PRODID:-//wp-events-plugin.com//7.2.3.1//EN
TZID:America/New_York
X-WR-TIMEZONE:America/New_York
BEGIN:VEVENT
UID:858@witherlelibrary.net
DTSTART;TZID=America/New_York:20221011T141500
DTEND;TZID=America/New_York:20221011T170000
DTSTAMP:20221001T160115Z
URL:https://witherlelibrary.net/events/dungeons-dragons-student-edition-gr
 oup-1-5/
SUMMARY:Dungeons & Dragons Student Edition Group 1
DESCRIPTION:Group One\n\nHaving found the Lamp of Selune\, our adventurers 
 have now stepped out into the wider world of Lumaria. They might have left
  the icy plains and snow dunes of Selunisle but greater dangers await them
 . Will they make a name for themselves or will bad orange juice be their b
 ane?\n\nD&amp\;D student edition meets every other Tuesday.\n\n
ATTACH;FMTTYPE=image/jpeg:https://witherlelibrary.net/wp-content/uploads/2
 021/12/Discord-DD-Logo.jpg
CATEGORIES:Youth Event
END:VEVENT
BEGIN:VTIMEZONE
TZID:America/New_York
X-LIC-LOCATION:America/New_York
BEGIN:DAYLIGHT
DTSTART:20220313T030000
TZOFFSETFROM:-0500
TZOFFSETTO:-0400
TZNAME:EDT
END:DAYLIGHT
END:VTIMEZONE
END:VCALENDAR