BEGIN:VCALENDAR
VERSION:2.0
PRODID:-//wp-events-plugin.com//7.2.3.1//EN
TZID:America/New_York
X-WR-TIMEZONE:America/New_York
BEGIN:VEVENT
UID:2294@witherlelibrary.net
DTSTART;TZID=America/New_York:20260424T150000
DTEND;TZID=America/New_York:20260424T163000
DTSTAMP:20260423T224514Z
URL:https://witherlelibrary.net/events/crafty-friday-with-hannah-sweet-9/
SUMMARY:Crafty Friday with Hannah Sweet
DESCRIPTION:Drop by the Children’s Room to make disc bead bracelets!\nWe 
 will be combining disc beads\, charms\, shells\, and letter beads on stret
 chy string to create one-of-a-kind bracelets you can stack on your arm\, o
 r give to friends!\nAges 8 and up\, 6 and 7 with an accompanying grownup.
ATTACH;FMTTYPE=image/jpeg:https://witherlelibrary.net/wp-content/uploads/2
 026/04/Screenshot-2026-04-23-at-6.41.44-PM.png
CATEGORIES:Adult Event
END:VEVENT
BEGIN:VTIMEZONE
TZID:America/New_York
X-LIC-LOCATION:America/New_York
BEGIN:DAYLIGHT
DTSTART:20260308T030000
TZOFFSETFROM:-0500
TZOFFSETTO:-0400
TZNAME:EDT
END:DAYLIGHT
END:VTIMEZONE
END:VCALENDAR