BEGIN:VCALENDAR
VERSION:2.0
PRODID:-//wp-events-plugin.com//7.2.3.1//EN
TZID:America/New_York
X-WR-TIMEZONE:America/New_York
BEGIN:VEVENT
UID:1321@witherlelibrary.net
DTSTART;TZID=America/New_York:20231102T120000
DTEND;TZID=America/New_York:20231102T130000
DTSTAMP:20231027T163336Z
URL:https://witherlelibrary.net/events/closed-for-a-staff-meeting/
SUMMARY:CLOSED for a staff meeting
DESCRIPTION:The library will be closed briefly for a one-hour staff meeting
  from Noon to 1 pm and reopen for the afternoon.
CATEGORIES:Adult Event
END:VEVENT
BEGIN:VTIMEZONE
TZID:America/New_York
X-LIC-LOCATION:America/New_York
BEGIN:DAYLIGHT
DTSTART:20230312T030000
TZOFFSETFROM:-0500
TZOFFSETTO:-0400
TZNAME:EDT
END:DAYLIGHT
END:VTIMEZONE
END:VCALENDAR