BEGIN:VCALENDAR
VERSION:2.0
PRODID:-//wp-events-plugin.com//7.2.3.1//EN
TZID:America/New_York
X-WR-TIMEZONE:America/New_York
BEGIN:VEVENT
UID:12@witherlelibrary.net
DTSTART:20190213T140000Z
DTEND:20190213T140000Z
DTSTAMP:20190207T230527Z
URL:https://witherlelibrary.net/events/2019-camden-conference-outreach-tro
 uble-in-chinese-waters-2/
SUMMARY:2019 Camden Conference Outreach: Trouble in Chinese Waters
DESCRIPTION:Rescheduled due to weather!\nNow February 13 at 10 am\n2019 Ca
 mden Conference Outreach:\nTrouble in Chinese Waters\npresented by Dr. Kri
 stin Vekasi\n\nAs a part of The 2019 Camden Conference Outreach speaker se
 ries\, Dr. Kristin Vekasi will present a talk called “Trouble in Chinese
  Waters” on the domestic and international politics of China’s contest
 ed maritime territories in the South and East China Seas.\nPhoto credit: 
 Wikimedia Commons
ATTACH;FMTTYPE=image/jpeg:https://witherlelibrary.net/wp-content/uploads/2
 019/02/Camden-Conference_sm.jpg
CATEGORIES:Adult Event
END:VEVENT
END:VCALENDAR